BEGIN:VCALENDAR
VERSION:2.0
PRODID:-//www.wdmcsfoundation.org//NONSGML kigkonsult.se iCalcreator 2.30.1
 0//
CALSCALE:GREGORIAN
METHOD:PUBLISH
UID:ed46bde6-a9cb-4dff-9ef5-97708050600a
X-WR-CALDESC:
X-WR-RELCALID:1569b4ba39e5d8265b9ca41806fad0b4
X-WR-TIMEZONE:America/Chicago
BEGIN:VTIMEZONE
TZID:America/Chicago
BEGIN:STANDARD
TZNAME:CST
DTSTART:20281105T020000
TZOFFSETFROM:-0500
TZOFFSETTO:-0600
RDATE:20291104T020000
END:STANDARD
BEGIN:DAYLIGHT
TZNAME:CDT
DTSTART:20280312T020000
TZOFFSETFROM:-0600
TZOFFSETTO:-0500
RDATE:20290311T020000
RDATE:20300310T020000
END:DAYLIGHT
END:VTIMEZONE
BEGIN:VEVENT
UID:fb24cec9-1c07-4be5-adc3-9b7b3d21c68f
DTSTAMP:20260424T150244Z
DESCRIPTION:
DTSTART;TZID=America/Chicago:20290118T160000
DTEND;TZID=America/Chicago:20290118T170000
LOCATION:West Des Moines Learning Resource Center (Clive Room)
SUMMARY:WDMCSF Board Meeting
END:VEVENT
END:VCALENDAR
