BEGIN:VCALENDAR
VERSION:2.0
PRODID:-//www.wdmcsfoundation.org//NONSGML kigkonsult.se iCalcreator 2.30.1
 0//
CALSCALE:GREGORIAN
METHOD:PUBLISH
UID:7b5566a5-0572-4fa3-847e-56696a4ab3d6
X-WR-CALDESC:
X-WR-RELCALID:e7c5a3dbf19a206ee6d8aab5a3e6aa69
X-WR-TIMEZONE:America/Chicago
BEGIN:VTIMEZONE
TZID:America/Chicago
BEGIN:STANDARD
TZNAME:CST
DTSTART:20271107T020000
TZOFFSETFROM:-0500
TZOFFSETTO:-0600
RDATE:20281105T020000
RDATE:20291104T020000
END:STANDARD
BEGIN:DAYLIGHT
TZNAME:CDT
DTSTART:20280312T020000
TZOFFSETFROM:-0600
TZOFFSETTO:-0500
RDATE:20290311T020000
RDATE:20300310T020000
END:DAYLIGHT
END:VTIMEZONE
BEGIN:VEVENT
UID:1c3b9b55-da82-408d-b134-d7799731d27a
DTSTAMP:20260424T101457Z
DESCRIPTION:
DTSTART;TZID=America/Chicago:20281019T160000
DTEND;TZID=America/Chicago:20281019T170000
LOCATION:West Des Moines Learning Resource Center (Clive Room)
SUMMARY:WDMCSF Board Meeting
END:VEVENT
END:VCALENDAR
