BEGIN:VCALENDAR
VERSION:2.0
PRODID:-//www.wdmcsfoundation.org//NONSGML kigkonsult.se iCalcreator 2.30.1
 0//
CALSCALE:GREGORIAN
METHOD:PUBLISH
UID:2396de49-66fa-41d7-9409-7168bf03857a
X-WR-CALDESC:
X-WR-RELCALID:e78edc7cdb1731328a4a9dbf48120a2c
X-WR-TIMEZONE:America/Chicago
BEGIN:VTIMEZONE
TZID:America/Chicago
BEGIN:STANDARD
TZNAME:CST
DTSTART:20271107T020000
TZOFFSETFROM:-0500
TZOFFSETTO:-0600
RDATE:20281105T020000
RDATE:20291104T020000
END:STANDARD
BEGIN:DAYLIGHT
TZNAME:CDT
DTSTART:20280312T020000
TZOFFSETFROM:-0600
TZOFFSETTO:-0500
RDATE:20290311T020000
END:DAYLIGHT
END:VTIMEZONE
BEGIN:VEVENT
UID:244ecc5d-f5a2-4f7e-b505-1a3bfd6611d8
DTSTAMP:20260420T020853Z
DESCRIPTION:
DTSTART;TZID=America/Chicago:20280518T160000
DTEND;TZID=America/Chicago:20280518T170000
LOCATION:West Des Moines Learning Resource Center (Clive Room)
SUMMARY:WDMCSF Board Meeting
END:VEVENT
END:VCALENDAR
