BEGIN:VCALENDAR
VERSION:2.0
PRODID:-//www.wdmcsfoundation.org//NONSGML kigkonsult.se iCalcreator 2.30.1
 0//
CALSCALE:GREGORIAN
METHOD:PUBLISH
UID:4fd2415c-654a-4351-9ba9-d7dd15a02a7a
X-WR-CALDESC:
X-WR-RELCALID:5198458262a781906a944b95c7ad4a85
X-WR-TIMEZONE:America/Chicago
BEGIN:VTIMEZONE
TZID:America/Chicago
BEGIN:STANDARD
TZNAME:CST
DTSTART:20271107T020000
TZOFFSETFROM:-0500
TZOFFSETTO:-0600
RDATE:20281105T020000
END:STANDARD
BEGIN:DAYLIGHT
TZNAME:CDT
DTSTART:20280312T020000
TZOFFSETFROM:-0600
TZOFFSETTO:-0500
RDATE:20290311T020000
END:DAYLIGHT
END:VTIMEZONE
BEGIN:VEVENT
UID:e5e79055-1b3e-4b20-90e0-a51f918a3437
DTSTAMP:20260420T001956Z
DESCRIPTION:
DTSTART;TZID=America/Chicago:20280420T160000
DTEND;TZID=America/Chicago:20280420T170000
LOCATION:West Des Moines Learning Resource Center (Clive Room)
SUMMARY:WDMCSF Board Meeting
END:VEVENT
END:VCALENDAR
