BEGIN:VCALENDAR
VERSION:2.0
PRODID:-//www.wdmcsfoundation.org//NONSGML kigkonsult.se iCalcreator 2.30.1
 0//
CALSCALE:GREGORIAN
METHOD:PUBLISH
UID:29f5d1e0-091a-45be-b6da-481489e606e3
X-WR-CALDESC:
X-WR-RELCALID:d4354776ec4e1f92b6ae43ae543c251a
X-WR-TIMEZONE:America/Chicago
BEGIN:VTIMEZONE
TZID:America/Chicago
BEGIN:STANDARD
TZNAME:CST
DTSTART:20271107T020000
TZOFFSETFROM:-0500
TZOFFSETTO:-0600
RDATE:20281105T020000
END:STANDARD
BEGIN:DAYLIGHT
TZNAME:CDT
DTSTART:20270314T020000
TZOFFSETFROM:-0600
TZOFFSETTO:-0500
RDATE:20280312T020000
RDATE:20290311T020000
END:DAYLIGHT
END:VTIMEZONE
BEGIN:VEVENT
UID:a887c4ec-12e3-4cfd-91b2-af098981b93e
DTSTAMP:20260419T192908Z
DESCRIPTION:
DTSTART;TZID=America/Chicago:20271216T160000
DTEND;TZID=America/Chicago:20271216T170000
LOCATION:West Des Moines Learning Resource Center (Clive Room)
SUMMARY:WDMCSF Board Meeting
END:VEVENT
END:VCALENDAR
